BEGIN:VCALENDAR
VERSION:2.0
PRODID:-//Stella Nahatis - ECPv6.15.18//NONSGML v1.0//EN
CALSCALE:GREGORIAN
METHOD:PUBLISH
X-WR-CALNAME:Stella Nahatis
X-ORIGINAL-URL:https://stellanahatis.com
X-WR-CALDESC:Events for Stella Nahatis
REFRESH-INTERVAL;VALUE=DURATION:PT1H
X-Robots-Tag:noindex
X-PUBLISHED-TTL:PT1H
BEGIN:VTIMEZONE
TZID:America/New_York
BEGIN:DAYLIGHT
TZOFFSETFROM:-0500
TZOFFSETTO:-0400
TZNAME:EDT
DTSTART:20240310T070000
END:DAYLIGHT
BEGIN:STANDARD
TZOFFSETFROM:-0400
TZOFFSETTO:-0500
TZNAME:EST
DTSTART:20241103T060000
END:STANDARD
BEGIN:DAYLIGHT
TZOFFSETFROM:-0500
TZOFFSETTO:-0400
TZNAME:EDT
DTSTART:20250309T070000
END:DAYLIGHT
BEGIN:STANDARD
TZOFFSETFROM:-0400
TZOFFSETTO:-0500
TZNAME:EST
DTSTART:20251102T060000
END:STANDARD
BEGIN:DAYLIGHT
TZOFFSETFROM:-0500
TZOFFSETTO:-0400
TZNAME:EDT
DTSTART:20260308T070000
END:DAYLIGHT
BEGIN:STANDARD
TZOFFSETFROM:-0400
TZOFFSETTO:-0500
TZNAME:EST
DTSTART:20261101T060000
END:STANDARD
END:VTIMEZONE
BEGIN:VEVENT
DTSTART;TZID=America/New_York:20251023T183000
DTEND;TZID=America/New_York:20251023T200000
DTSTAMP:20260421T091830
CREATED:20250926T211447Z
LAST-MODIFIED:20250926T211447Z
UID:2759-1761244200-1761249600@stellanahatis.com
SUMMARY:Meet the author
DESCRIPTION:6:00-Doors open for socializing & refreshments \n6:30-Author presentation followed by Q&A and book signing
URL:https://stellanahatis.com/event/meet-the-author-3/
LOCATION:First Parish Community Hall\, 1 Chapel Lane\, MANCHESTER\, MA
END:VEVENT
END:VCALENDAR